BEGIN:VCALENDAR
VERSION:2.0
PRODID:-//Cold Mountain Zen - ECPv6.15.20//NONSGML v1.0//EN
CALSCALE:GREGORIAN
METHOD:PUBLISH
X-WR-CALNAME:Cold Mountain Zen
X-ORIGINAL-URL:https://www.coldmountainzen.org
X-WR-CALDESC:Events for Cold Mountain Zen
REFRESH-INTERVAL;VALUE=DURATION:PT1H
X-Robots-Tag:noindex
X-PUBLISHED-TTL:PT1H
BEGIN:VTIMEZONE
TZID:America/New_York
BEGIN:DAYLIGHT
TZOFFSETFROM:-0500
TZOFFSETTO:-0400
TZNAME:EDT
DTSTART:20250309T070000
END:DAYLIGHT
BEGIN:STANDARD
TZOFFSETFROM:-0400
TZOFFSETTO:-0500
TZNAME:EST
DTSTART:20251102T060000
END:STANDARD
BEGIN:DAYLIGHT
TZOFFSETFROM:-0500
TZOFFSETTO:-0400
TZNAME:EDT
DTSTART:20260308T070000
END:DAYLIGHT
BEGIN:STANDARD
TZOFFSETFROM:-0400
TZOFFSETTO:-0500
TZNAME:EST
DTSTART:20261101T060000
END:STANDARD
BEGIN:DAYLIGHT
TZOFFSETFROM:-0500
TZOFFSETTO:-0400
TZNAME:EDT
DTSTART:20270314T070000
END:DAYLIGHT
BEGIN:STANDARD
TZOFFSETFROM:-0400
TZOFFSETTO:-0500
TZNAME:EST
DTSTART:20271107T060000
END:STANDARD
END:VTIMEZONE
BEGIN:VEVENT
DTSTART;TZID=America/New_York:20260818T210000
DTEND;TZID=America/New_York:20260823T183000
DTSTAMP:20260423T165646
CREATED:20250919T115041Z
LAST-MODIFIED:20250919T115041Z
UID:10006634-1787086800-1787509800@www.coldmountainzen.org
SUMMARY:Summer Sesshin
DESCRIPTION:Summer Sesshin\nAugust 18 – August 23\, 2026\n  \nTypical Sesshin Schedule\nThe daily schedule includes zazen\, chanting\, cleaning\, teisho (a talk on Zen practice)\, rest periods\, and dokusan (private interview with the teacher).AM\n4:30 Wake Up\n5:00 Sutra Recitation\n5:40 Tea and bathroom break\n6:00 Zazen\n7:30 Bathroom break\n7:40 Zazen\n8:00 Breakfast and Cleaning\n10:00 Zazen\n11:00 Teisho (talk on Zen practice)\n12:00 Bathroom break\nPM\n12:10 Zazen\n12:30 Lunch\n2:30 Zazen\n3:30 Showers (optional zazen)\n4:30 Afternoon sutra recitation\n5:00 Zazen\n5:30 Kinhin (walking meditation)\n5:40 Zazen\n6:00 Dinner\n7:00 Optional zazen\n8:00 Zazen and Dokusan (private interviews with sensei)\n9:00 Kinhin\n9:15 Tea and bathrom break\n9:30 Zazen and Dokusan\n10:30 End of day \nTo register\, please write coldmountainsangha@gmail.com
URL:https://www.coldmountainzen.org/event/summer-sesshin/
LOCATION:Murray Grove Retreat Center\, 431 US Highway 9 at Church Lane\, Lanoka Harbor\, NJ\, 08734\, United States
CATEGORIES:Sesshin
ATTACH;FMTTYPE=image/jpeg:https://www.coldmountainzen.org/wp-content/uploads/2024/03/16-9-bamboo-path.jpg
END:VEVENT
BEGIN:VEVENT
DTSTART;TZID=America/New_York:20260822T070000
DTEND;TZID=America/New_York:20260822T120000
DTSTAMP:20260423T165646
CREATED:20250124T015151Z
LAST-MODIFIED:20260214T020027Z
UID:10005875-1787382000-1787400000@www.coldmountainzen.org
SUMMARY:Saturday Zazen
DESCRIPTION:Zazen\nSaturday Half-day 7 AM – 12 PM\n  \nCurrently we are continuing to meet on Zoom during the weekdays.   For Zoom meeting information\, please email us at coldmountainsangha@gmail.com. \nAnyone interested in learning Zen meditation is welcome to join. For beginners\, Mondays and Fridays are best. Please plan to join us on Zoom a few minutes early. You will receive instruction before the meditation period begins. \nIn-person practice takes place on alternate Saturdays\, when we host a half day of meditation on the Livingston Campus of Rutgers-New Brunswick.  Please see “Weekend Zazen” on this site for more information. \nSaturday Schedule \n7:00 am. Sutra Recitation \n7:45. Tea service and bathroom break \n8:00 Three periods of zazen (meditation) \n9:30 Bathroom break \n9:40 Two periods of zazen \n10:40 Bathroom break \n10:45 Kinhin (walking meditation) \n11:00 Teisho \nNoon End of events \n 
URL:https://www.coldmountainzen.org/event/weekendzazen-3-2-2/2026-08-22/
LOCATION:Lucy Stone Hall\, 54 Joyce Kilmer Avenue\, Piscataway\, NJ\, 08854\, United States
CATEGORIES:Weekend Zazen-Saturday,Zazen
ATTACH;FMTTYPE=image/jpeg:https://www.coldmountainzen.org/wp-content/uploads/2024/03/16-9-lilies.jpg
END:VEVENT
END:VCALENDAR