BEGIN:VCALENDAR
VERSION:2.0
PRODID:-//Cold Mountain Zen - ECPv6.15.20//NONSGML v1.0//EN
CALSCALE:GREGORIAN
METHOD:PUBLISH
X-ORIGINAL-URL:https://www.coldmountainzen.org
X-WR-CALDESC:Events for Cold Mountain Zen
REFRESH-INTERVAL;VALUE=DURATION:PT1H
X-Robots-Tag:noindex
X-PUBLISHED-TTL:PT1H
BEGIN:VTIMEZONE
TZID:America/New_York
BEGIN:DAYLIGHT
TZOFFSETFROM:-0500
TZOFFSETTO:-0400
TZNAME:EDT
DTSTART:20300310T070000
END:DAYLIGHT
BEGIN:STANDARD
TZOFFSETFROM:-0400
TZOFFSETTO:-0500
TZNAME:EST
DTSTART:20301103T060000
END:STANDARD
BEGIN:DAYLIGHT
TZOFFSETFROM:-0500
TZOFFSETTO:-0400
TZNAME:EDT
DTSTART:20310309T070000
END:DAYLIGHT
BEGIN:STANDARD
TZOFFSETFROM:-0400
TZOFFSETTO:-0500
TZNAME:EST
DTSTART:20311102T060000
END:STANDARD
BEGIN:DAYLIGHT
TZOFFSETFROM:-0500
TZOFFSETTO:-0400
TZNAME:EDT
DTSTART:20320314T070000
END:DAYLIGHT
BEGIN:STANDARD
TZOFFSETFROM:-0400
TZOFFSETTO:-0500
TZNAME:EST
DTSTART:20321107T060000
END:STANDARD
END:VTIMEZONE
BEGIN:VEVENT
DTSTART;TZID=America/New_York:20310110T190000
DTEND;TZID=America/New_York:20310110T203000
DTSTAMP:20260425T114252
CREATED:20260215T025720Z
LAST-MODIFIED:20260215T031545Z
UID:10006981-1925838000-1925843400@www.coldmountainzen.org
SUMMARY:Friday Zazen
DESCRIPTION:Zazen\nFriday Evening 7:00 – 8:30 PM\n  \nCurrently we are continuing to meet on Zoom except Fridays which are now both Zoom and in person at Lucy Stone Hall. For Zoom meeting information\, please email us at coldmountainsangha@gmail.com. \nAnyone interested in learning Zen meditation is welcome to join. For beginners\, Mondays and Fridays are best. Please plan to join us on Zoom a few minutes early. You will receive instruction before the meditation period begins. \nIn-person practice takes place on every Friday and alternate Saturdays\, when we host a half day of meditation on the Livingston Campus of Rutgers-New Brunswick.  Please see “Weekend Zazen” on this site for more information. \n 
URL:https://www.coldmountainzen.org/event/weekday-zazen-friday-2/2031-01-10/
LOCATION:Lucy Stone Hall\, 54 Joyce Kilmer Avenue\, Piscataway\, NJ\, 08854\, United States
CATEGORIES:Friday Zazen,Zazen
ATTACH;FMTTYPE=image/jpeg:https://www.coldmountainzen.org/wp-content/uploads/2024/03/16-9-po-lin-lantau2.jpg
END:VEVENT
BEGIN:VEVENT
DTSTART;TZID=America/New_York:20310117T190000
DTEND;TZID=America/New_York:20310117T203000
DTSTAMP:20260425T114252
CREATED:20260215T025720Z
LAST-MODIFIED:20260215T031545Z
UID:10006982-1926442800-1926448200@www.coldmountainzen.org
SUMMARY:Friday Zazen
DESCRIPTION:Zazen\nFriday Evening 7:00 – 8:30 PM\n  \nCurrently we are continuing to meet on Zoom except Fridays which are now both Zoom and in person at Lucy Stone Hall. For Zoom meeting information\, please email us at coldmountainsangha@gmail.com. \nAnyone interested in learning Zen meditation is welcome to join. For beginners\, Mondays and Fridays are best. Please plan to join us on Zoom a few minutes early. You will receive instruction before the meditation period begins. \nIn-person practice takes place on every Friday and alternate Saturdays\, when we host a half day of meditation on the Livingston Campus of Rutgers-New Brunswick.  Please see “Weekend Zazen” on this site for more information. \n 
URL:https://www.coldmountainzen.org/event/weekday-zazen-friday-2/2031-01-17/
LOCATION:Lucy Stone Hall\, 54 Joyce Kilmer Avenue\, Piscataway\, NJ\, 08854\, United States
CATEGORIES:Friday Zazen,Zazen
ATTACH;FMTTYPE=image/jpeg:https://www.coldmountainzen.org/wp-content/uploads/2024/03/16-9-po-lin-lantau2.jpg
END:VEVENT
BEGIN:VEVENT
DTSTART;TZID=America/New_York:20310124T190000
DTEND;TZID=America/New_York:20310124T203000
DTSTAMP:20260425T114252
CREATED:20260215T025720Z
LAST-MODIFIED:20260215T031545Z
UID:10006983-1927047600-1927053000@www.coldmountainzen.org
SUMMARY:Friday Zazen
DESCRIPTION:Zazen\nFriday Evening 7:00 – 8:30 PM\n  \nCurrently we are continuing to meet on Zoom except Fridays which are now both Zoom and in person at Lucy Stone Hall. For Zoom meeting information\, please email us at coldmountainsangha@gmail.com. \nAnyone interested in learning Zen meditation is welcome to join. For beginners\, Mondays and Fridays are best. Please plan to join us on Zoom a few minutes early. You will receive instruction before the meditation period begins. \nIn-person practice takes place on every Friday and alternate Saturdays\, when we host a half day of meditation on the Livingston Campus of Rutgers-New Brunswick.  Please see “Weekend Zazen” on this site for more information. \n 
URL:https://www.coldmountainzen.org/event/weekday-zazen-friday-2/2031-01-24/
LOCATION:Lucy Stone Hall\, 54 Joyce Kilmer Avenue\, Piscataway\, NJ\, 08854\, United States
CATEGORIES:Friday Zazen,Zazen
ATTACH;FMTTYPE=image/jpeg:https://www.coldmountainzen.org/wp-content/uploads/2024/03/16-9-po-lin-lantau2.jpg
END:VEVENT
BEGIN:VEVENT
DTSTART;TZID=America/New_York:20310131T190000
DTEND;TZID=America/New_York:20310131T203000
DTSTAMP:20260425T114252
CREATED:20260215T025720Z
LAST-MODIFIED:20260215T031545Z
UID:10006984-1927652400-1927657800@www.coldmountainzen.org
SUMMARY:Friday Zazen
DESCRIPTION:Zazen\nFriday Evening 7:00 – 8:30 PM\n  \nCurrently we are continuing to meet on Zoom except Fridays which are now both Zoom and in person at Lucy Stone Hall. For Zoom meeting information\, please email us at coldmountainsangha@gmail.com. \nAnyone interested in learning Zen meditation is welcome to join. For beginners\, Mondays and Fridays are best. Please plan to join us on Zoom a few minutes early. You will receive instruction before the meditation period begins. \nIn-person practice takes place on every Friday and alternate Saturdays\, when we host a half day of meditation on the Livingston Campus of Rutgers-New Brunswick.  Please see “Weekend Zazen” on this site for more information. \n 
URL:https://www.coldmountainzen.org/event/weekday-zazen-friday-2/2031-01-31/
LOCATION:Lucy Stone Hall\, 54 Joyce Kilmer Avenue\, Piscataway\, NJ\, 08854\, United States
CATEGORIES:Friday Zazen,Zazen
ATTACH;FMTTYPE=image/jpeg:https://www.coldmountainzen.org/wp-content/uploads/2024/03/16-9-po-lin-lantau2.jpg
END:VEVENT
BEGIN:VEVENT
DTSTART;TZID=America/New_York:20310207T190000
DTEND;TZID=America/New_York:20310207T203000
DTSTAMP:20260425T114252
CREATED:20260215T025720Z
LAST-MODIFIED:20260215T031545Z
UID:10006985-1928257200-1928262600@www.coldmountainzen.org
SUMMARY:Friday Zazen
DESCRIPTION:Zazen\nFriday Evening 7:00 – 8:30 PM\n  \nCurrently we are continuing to meet on Zoom except Fridays which are now both Zoom and in person at Lucy Stone Hall. For Zoom meeting information\, please email us at coldmountainsangha@gmail.com. \nAnyone interested in learning Zen meditation is welcome to join. For beginners\, Mondays and Fridays are best. Please plan to join us on Zoom a few minutes early. You will receive instruction before the meditation period begins. \nIn-person practice takes place on every Friday and alternate Saturdays\, when we host a half day of meditation on the Livingston Campus of Rutgers-New Brunswick.  Please see “Weekend Zazen” on this site for more information. \n 
URL:https://www.coldmountainzen.org/event/weekday-zazen-friday-2/2031-02-07/
LOCATION:Lucy Stone Hall\, 54 Joyce Kilmer Avenue\, Piscataway\, NJ\, 08854\, United States
CATEGORIES:Friday Zazen,Zazen
ATTACH;FMTTYPE=image/jpeg:https://www.coldmountainzen.org/wp-content/uploads/2024/03/16-9-po-lin-lantau2.jpg
END:VEVENT
BEGIN:VEVENT
DTSTART;TZID=America/New_York:20310214T190000
DTEND;TZID=America/New_York:20310214T203000
DTSTAMP:20260425T114252
CREATED:20260215T025720Z
LAST-MODIFIED:20260215T031545Z
UID:10006986-1928862000-1928867400@www.coldmountainzen.org
SUMMARY:Friday Zazen
DESCRIPTION:Zazen\nFriday Evening 7:00 – 8:30 PM\n  \nCurrently we are continuing to meet on Zoom except Fridays which are now both Zoom and in person at Lucy Stone Hall. For Zoom meeting information\, please email us at coldmountainsangha@gmail.com. \nAnyone interested in learning Zen meditation is welcome to join. For beginners\, Mondays and Fridays are best. Please plan to join us on Zoom a few minutes early. You will receive instruction before the meditation period begins. \nIn-person practice takes place on every Friday and alternate Saturdays\, when we host a half day of meditation on the Livingston Campus of Rutgers-New Brunswick.  Please see “Weekend Zazen” on this site for more information. \n 
URL:https://www.coldmountainzen.org/event/weekday-zazen-friday-2/2031-02-14/
LOCATION:Lucy Stone Hall\, 54 Joyce Kilmer Avenue\, Piscataway\, NJ\, 08854\, United States
CATEGORIES:Friday Zazen,Zazen
ATTACH;FMTTYPE=image/jpeg:https://www.coldmountainzen.org/wp-content/uploads/2024/03/16-9-po-lin-lantau2.jpg
END:VEVENT
BEGIN:VEVENT
DTSTART;TZID=America/New_York:20310221T190000
DTEND;TZID=America/New_York:20310221T203000
DTSTAMP:20260425T114252
CREATED:20260215T025720Z
LAST-MODIFIED:20260215T031545Z
UID:10007798-1929466800-1929472200@www.coldmountainzen.org
SUMMARY:Friday Zazen
DESCRIPTION:Zazen\nFriday Evening 7:00 – 8:30 PM\n  \nCurrently we are continuing to meet on Zoom except Fridays which are now both Zoom and in person at Lucy Stone Hall. For Zoom meeting information\, please email us at coldmountainsangha@gmail.com. \nAnyone interested in learning Zen meditation is welcome to join. For beginners\, Mondays and Fridays are best. Please plan to join us on Zoom a few minutes early. You will receive instruction before the meditation period begins. \nIn-person practice takes place on every Friday and alternate Saturdays\, when we host a half day of meditation on the Livingston Campus of Rutgers-New Brunswick.  Please see “Weekend Zazen” on this site for more information. \n 
URL:https://www.coldmountainzen.org/event/weekday-zazen-friday-2/2031-02-21/
LOCATION:Lucy Stone Hall\, 54 Joyce Kilmer Avenue\, Piscataway\, NJ\, 08854\, United States
CATEGORIES:Friday Zazen,Zazen
ATTACH;FMTTYPE=image/jpeg:https://www.coldmountainzen.org/wp-content/uploads/2024/03/16-9-po-lin-lantau2.jpg
END:VEVENT
BEGIN:VEVENT
DTSTART;TZID=America/New_York:20310228T190000
DTEND;TZID=America/New_York:20310228T203000
DTSTAMP:20260425T114252
CREATED:20260215T025720Z
LAST-MODIFIED:20260215T031545Z
UID:10007799-1930071600-1930077000@www.coldmountainzen.org
SUMMARY:Friday Zazen
DESCRIPTION:Zazen\nFriday Evening 7:00 – 8:30 PM\n  \nCurrently we are continuing to meet on Zoom except Fridays which are now both Zoom and in person at Lucy Stone Hall. For Zoom meeting information\, please email us at coldmountainsangha@gmail.com. \nAnyone interested in learning Zen meditation is welcome to join. For beginners\, Mondays and Fridays are best. Please plan to join us on Zoom a few minutes early. You will receive instruction before the meditation period begins. \nIn-person practice takes place on every Friday and alternate Saturdays\, when we host a half day of meditation on the Livingston Campus of Rutgers-New Brunswick.  Please see “Weekend Zazen” on this site for more information. \n 
URL:https://www.coldmountainzen.org/event/weekday-zazen-friday-2/2031-02-28/
LOCATION:Lucy Stone Hall\, 54 Joyce Kilmer Avenue\, Piscataway\, NJ\, 08854\, United States
CATEGORIES:Friday Zazen,Zazen
ATTACH;FMTTYPE=image/jpeg:https://www.coldmountainzen.org/wp-content/uploads/2024/03/16-9-po-lin-lantau2.jpg
END:VEVENT
BEGIN:VEVENT
DTSTART;TZID=America/New_York:20310307T190000
DTEND;TZID=America/New_York:20310307T203000
DTSTAMP:20260425T114252
CREATED:20260215T025720Z
LAST-MODIFIED:20260215T031545Z
UID:10007800-1930676400-1930681800@www.coldmountainzen.org
SUMMARY:Friday Zazen
DESCRIPTION:Zazen\nFriday Evening 7:00 – 8:30 PM\n  \nCurrently we are continuing to meet on Zoom except Fridays which are now both Zoom and in person at Lucy Stone Hall. For Zoom meeting information\, please email us at coldmountainsangha@gmail.com. \nAnyone interested in learning Zen meditation is welcome to join. For beginners\, Mondays and Fridays are best. Please plan to join us on Zoom a few minutes early. You will receive instruction before the meditation period begins. \nIn-person practice takes place on every Friday and alternate Saturdays\, when we host a half day of meditation on the Livingston Campus of Rutgers-New Brunswick.  Please see “Weekend Zazen” on this site for more information. \n 
URL:https://www.coldmountainzen.org/event/weekday-zazen-friday-2/2031-03-07/
LOCATION:Lucy Stone Hall\, 54 Joyce Kilmer Avenue\, Piscataway\, NJ\, 08854\, United States
CATEGORIES:Friday Zazen,Zazen
ATTACH;FMTTYPE=image/jpeg:https://www.coldmountainzen.org/wp-content/uploads/2024/03/16-9-po-lin-lantau2.jpg
END:VEVENT
BEGIN:VEVENT
DTSTART;TZID=America/New_York:20310314T190000
DTEND;TZID=America/New_York:20310314T203000
DTSTAMP:20260425T114252
CREATED:20260215T025720Z
LAST-MODIFIED:20260215T031545Z
UID:10007801-1931281200-1931286600@www.coldmountainzen.org
SUMMARY:Friday Zazen
DESCRIPTION:Zazen\nFriday Evening 7:00 – 8:30 PM\n  \nCurrently we are continuing to meet on Zoom except Fridays which are now both Zoom and in person at Lucy Stone Hall. For Zoom meeting information\, please email us at coldmountainsangha@gmail.com. \nAnyone interested in learning Zen meditation is welcome to join. For beginners\, Mondays and Fridays are best. Please plan to join us on Zoom a few minutes early. You will receive instruction before the meditation period begins. \nIn-person practice takes place on every Friday and alternate Saturdays\, when we host a half day of meditation on the Livingston Campus of Rutgers-New Brunswick.  Please see “Weekend Zazen” on this site for more information. \n 
URL:https://www.coldmountainzen.org/event/weekday-zazen-friday-2/2031-03-14/
LOCATION:Lucy Stone Hall\, 54 Joyce Kilmer Avenue\, Piscataway\, NJ\, 08854\, United States
CATEGORIES:Friday Zazen,Zazen
ATTACH;FMTTYPE=image/jpeg:https://www.coldmountainzen.org/wp-content/uploads/2024/03/16-9-po-lin-lantau2.jpg
END:VEVENT
BEGIN:VEVENT
DTSTART;TZID=America/New_York:20310321T190000
DTEND;TZID=America/New_York:20310321T203000
DTSTAMP:20260425T114252
CREATED:20260215T025720Z
LAST-MODIFIED:20260215T031545Z
UID:10007802-1931886000-1931891400@www.coldmountainzen.org
SUMMARY:Friday Zazen
DESCRIPTION:Zazen\nFriday Evening 7:00 – 8:30 PM\n  \nCurrently we are continuing to meet on Zoom except Fridays which are now both Zoom and in person at Lucy Stone Hall. For Zoom meeting information\, please email us at coldmountainsangha@gmail.com. \nAnyone interested in learning Zen meditation is welcome to join. For beginners\, Mondays and Fridays are best. Please plan to join us on Zoom a few minutes early. You will receive instruction before the meditation period begins. \nIn-person practice takes place on every Friday and alternate Saturdays\, when we host a half day of meditation on the Livingston Campus of Rutgers-New Brunswick.  Please see “Weekend Zazen” on this site for more information. \n 
URL:https://www.coldmountainzen.org/event/weekday-zazen-friday-2/2031-03-21/
LOCATION:Lucy Stone Hall\, 54 Joyce Kilmer Avenue\, Piscataway\, NJ\, 08854\, United States
CATEGORIES:Friday Zazen,Zazen
ATTACH;FMTTYPE=image/jpeg:https://www.coldmountainzen.org/wp-content/uploads/2024/03/16-9-po-lin-lantau2.jpg
END:VEVENT
BEGIN:VEVENT
DTSTART;TZID=America/New_York:20310328T190000
DTEND;TZID=America/New_York:20310328T203000
DTSTAMP:20260425T114252
CREATED:20260215T025720Z
LAST-MODIFIED:20260215T031545Z
UID:10007804-1932490800-1932496200@www.coldmountainzen.org
SUMMARY:Friday Zazen
DESCRIPTION:Zazen\nFriday Evening 7:00 – 8:30 PM\n  \nCurrently we are continuing to meet on Zoom except Fridays which are now both Zoom and in person at Lucy Stone Hall. For Zoom meeting information\, please email us at coldmountainsangha@gmail.com. \nAnyone interested in learning Zen meditation is welcome to join. For beginners\, Mondays and Fridays are best. Please plan to join us on Zoom a few minutes early. You will receive instruction before the meditation period begins. \nIn-person practice takes place on every Friday and alternate Saturdays\, when we host a half day of meditation on the Livingston Campus of Rutgers-New Brunswick.  Please see “Weekend Zazen” on this site for more information. \n 
URL:https://www.coldmountainzen.org/event/weekday-zazen-friday-2/2031-03-28/
LOCATION:Lucy Stone Hall\, 54 Joyce Kilmer Avenue\, Piscataway\, NJ\, 08854\, United States
CATEGORIES:Friday Zazen,Zazen
ATTACH;FMTTYPE=image/jpeg:https://www.coldmountainzen.org/wp-content/uploads/2024/03/16-9-po-lin-lantau2.jpg
END:VEVENT
BEGIN:VEVENT
DTSTART;TZID=America/New_York:20310404T190000
DTEND;TZID=America/New_York:20310404T203000
DTSTAMP:20260425T114252
CREATED:20260215T025720Z
LAST-MODIFIED:20260215T031545Z
UID:10007807-1933095600-1933101000@www.coldmountainzen.org
SUMMARY:Friday Zazen
DESCRIPTION:Zazen\nFriday Evening 7:00 – 8:30 PM\n  \nCurrently we are continuing to meet on Zoom except Fridays which are now both Zoom and in person at Lucy Stone Hall. For Zoom meeting information\, please email us at coldmountainsangha@gmail.com. \nAnyone interested in learning Zen meditation is welcome to join. For beginners\, Mondays and Fridays are best. Please plan to join us on Zoom a few minutes early. You will receive instruction before the meditation period begins. \nIn-person practice takes place on every Friday and alternate Saturdays\, when we host a half day of meditation on the Livingston Campus of Rutgers-New Brunswick.  Please see “Weekend Zazen” on this site for more information. \n 
URL:https://www.coldmountainzen.org/event/weekday-zazen-friday-2/2031-04-04/
LOCATION:Lucy Stone Hall\, 54 Joyce Kilmer Avenue\, Piscataway\, NJ\, 08854\, United States
CATEGORIES:Friday Zazen,Zazen
ATTACH;FMTTYPE=image/jpeg:https://www.coldmountainzen.org/wp-content/uploads/2024/03/16-9-po-lin-lantau2.jpg
END:VEVENT
BEGIN:VEVENT
DTSTART;TZID=America/New_York:20310411T190000
DTEND;TZID=America/New_York:20310411T203000
DTSTAMP:20260425T114252
CREATED:20260215T025720Z
LAST-MODIFIED:20260215T031545Z
UID:10007809-1933700400-1933705800@www.coldmountainzen.org
SUMMARY:Friday Zazen
DESCRIPTION:Zazen\nFriday Evening 7:00 – 8:30 PM\n  \nCurrently we are continuing to meet on Zoom except Fridays which are now both Zoom and in person at Lucy Stone Hall. For Zoom meeting information\, please email us at coldmountainsangha@gmail.com. \nAnyone interested in learning Zen meditation is welcome to join. For beginners\, Mondays and Fridays are best. Please plan to join us on Zoom a few minutes early. You will receive instruction before the meditation period begins. \nIn-person practice takes place on every Friday and alternate Saturdays\, when we host a half day of meditation on the Livingston Campus of Rutgers-New Brunswick.  Please see “Weekend Zazen” on this site for more information. \n 
URL:https://www.coldmountainzen.org/event/weekday-zazen-friday-2/2031-04-11/
LOCATION:Lucy Stone Hall\, 54 Joyce Kilmer Avenue\, Piscataway\, NJ\, 08854\, United States
CATEGORIES:Friday Zazen,Zazen
ATTACH;FMTTYPE=image/jpeg:https://www.coldmountainzen.org/wp-content/uploads/2024/03/16-9-po-lin-lantau2.jpg
END:VEVENT
BEGIN:VEVENT
DTSTART;TZID=America/New_York:20310418T190000
DTEND;TZID=America/New_York:20310418T203000
DTSTAMP:20260425T114252
CREATED:20260215T025720Z
LAST-MODIFIED:20260215T031545Z
UID:10007812-1934305200-1934310600@www.coldmountainzen.org
SUMMARY:Friday Zazen
DESCRIPTION:Zazen\nFriday Evening 7:00 – 8:30 PM\n  \nCurrently we are continuing to meet on Zoom except Fridays which are now both Zoom and in person at Lucy Stone Hall. For Zoom meeting information\, please email us at coldmountainsangha@gmail.com. \nAnyone interested in learning Zen meditation is welcome to join. For beginners\, Mondays and Fridays are best. Please plan to join us on Zoom a few minutes early. You will receive instruction before the meditation period begins. \nIn-person practice takes place on every Friday and alternate Saturdays\, when we host a half day of meditation on the Livingston Campus of Rutgers-New Brunswick.  Please see “Weekend Zazen” on this site for more information. \n 
URL:https://www.coldmountainzen.org/event/weekday-zazen-friday-2/2031-04-18/
LOCATION:Lucy Stone Hall\, 54 Joyce Kilmer Avenue\, Piscataway\, NJ\, 08854\, United States
CATEGORIES:Friday Zazen,Zazen
ATTACH;FMTTYPE=image/jpeg:https://www.coldmountainzen.org/wp-content/uploads/2024/03/16-9-po-lin-lantau2.jpg
END:VEVENT
END:VCALENDAR