BEGIN:VCALENDAR
VERSION:2.0
PRODID:-//Cold Mountain Zen - ECPv6.15.20//NONSGML v1.0//EN
CALSCALE:GREGORIAN
METHOD:PUBLISH
X-WR-CALNAME:Cold Mountain Zen
X-ORIGINAL-URL:https://www.coldmountainzen.org
X-WR-CALDESC:Events for Cold Mountain Zen
REFRESH-INTERVAL;VALUE=DURATION:PT1H
X-Robots-Tag:noindex
X-PUBLISHED-TTL:PT1H
BEGIN:VTIMEZONE
TZID:America/New_York
BEGIN:DAYLIGHT
TZOFFSETFROM:-0500
TZOFFSETTO:-0400
TZNAME:EDT
DTSTART:20250309T070000
END:DAYLIGHT
BEGIN:STANDARD
TZOFFSETFROM:-0400
TZOFFSETTO:-0500
TZNAME:EST
DTSTART:20251102T060000
END:STANDARD
BEGIN:DAYLIGHT
TZOFFSETFROM:-0500
TZOFFSETTO:-0400
TZNAME:EDT
DTSTART:20260308T070000
END:DAYLIGHT
BEGIN:STANDARD
TZOFFSETFROM:-0400
TZOFFSETTO:-0500
TZNAME:EST
DTSTART:20261101T060000
END:STANDARD
BEGIN:DAYLIGHT
TZOFFSETFROM:-0500
TZOFFSETTO:-0400
TZNAME:EDT
DTSTART:20270314T070000
END:DAYLIGHT
BEGIN:STANDARD
TZOFFSETFROM:-0400
TZOFFSETTO:-0500
TZNAME:EST
DTSTART:20271107T060000
END:STANDARD
END:VTIMEZONE
BEGIN:VEVENT
DTSTART;TZID=America/New_York:20260801T070000
DTEND;TZID=America/New_York:20260801T120000
DTSTAMP:20260423T170057
CREATED:20260217T013543Z
LAST-MODIFIED:20260217T013544Z
UID:10007015-1785567600-1785585600@www.coldmountainzen.org
SUMMARY:Saturday Zazen 8-1-26
DESCRIPTION:Zazen\nSaturday Half-day 6 AM – 11 AM\n  \nCurrently we are continuing to meet on Zoom during the weekdays.   For Zoom meeting information\, please email us at coldmountainsangha@gmail.com. \nAnyone interested in learning Zen meditation is welcome to join. For beginners\, Mondays and Fridays are best. Please plan to join us on Zoom a few minutes early. You will receive instruction before the meditation period begins. \nIn-person practice takes place on alternate Saturdays\, when we host a half day of meditation on the Hollywood Bowl\, Hollywood\, CA.  Please see “Weekend Zazen” on this site for more information. \nSaturday Schedule \n7:00 am. Sutra Recitation \n7:45. Tea service and bathroom break \n8:00 Three periods of zazen (meditation) \n9:30 Bathroom break \n9:40 Two periods of zazen \n10:40 Bathroom break \n10:45 Kinhin (walking meditation) \n11:00 Teisho \nNoon End of events \n 
URL:https://www.coldmountainzen.org/event/saturday-zazen-8-1-26-2/
LOCATION:Lucy Stone Hall\, 54 Joyce Kilmer Avenue\, Piscataway\, NJ\, 08854\, United States
CATEGORIES:Weekend Zazen-Saturday,Zazen
ATTACH;FMTTYPE=image/jpeg:https://www.coldmountainzen.org/wp-content/uploads/2024/03/16-9-lilies.jpg
END:VEVENT
END:VCALENDAR