BEGIN:VCALENDAR
VERSION:2.0
PRODID:-//Cold Mountain Zen - ECPv6.15.20//NONSGML v1.0//EN
CALSCALE:GREGORIAN
METHOD:PUBLISH
X-WR-CALNAME:Cold Mountain Zen
X-ORIGINAL-URL:https://www.coldmountainzen.org
X-WR-CALDESC:Events for Cold Mountain Zen
REFRESH-INTERVAL;VALUE=DURATION:PT1H
X-Robots-Tag:noindex
X-PUBLISHED-TTL:PT1H
BEGIN:VTIMEZONE
TZID:America/New_York
BEGIN:DAYLIGHT
TZOFFSETFROM:-0500
TZOFFSETTO:-0400
TZNAME:EDT
DTSTART:20250309T070000
END:DAYLIGHT
BEGIN:STANDARD
TZOFFSETFROM:-0400
TZOFFSETTO:-0500
TZNAME:EST
DTSTART:20251102T060000
END:STANDARD
BEGIN:DAYLIGHT
TZOFFSETFROM:-0500
TZOFFSETTO:-0400
TZNAME:EDT
DTSTART:20260308T070000
END:DAYLIGHT
BEGIN:STANDARD
TZOFFSETFROM:-0400
TZOFFSETTO:-0500
TZNAME:EST
DTSTART:20261101T060000
END:STANDARD
BEGIN:DAYLIGHT
TZOFFSETFROM:-0500
TZOFFSETTO:-0400
TZNAME:EDT
DTSTART:20270314T070000
END:DAYLIGHT
BEGIN:STANDARD
TZOFFSETFROM:-0400
TZOFFSETTO:-0500
TZNAME:EST
DTSTART:20271107T060000
END:STANDARD
END:VTIMEZONE
BEGIN:VEVENT
DTSTART;TZID=America/New_York:20260509T070000
DTEND;TZID=America/New_York:20260509T120000
DTSTAMP:20260423T181212
CREATED:20250124T015151Z
LAST-MODIFIED:20260214T020027Z
UID:10005860-1778310000-1778328000@www.coldmountainzen.org
SUMMARY:Saturday Zazen
DESCRIPTION:Zazen\nSaturday Half-day 7 AM – 12 PM\n  \nCurrently we are continuing to meet on Zoom during the weekdays.   For Zoom meeting information\, please email us at coldmountainsangha@gmail.com. \nAnyone interested in learning Zen meditation is welcome to join. For beginners\, Mondays and Fridays are best. Please plan to join us on Zoom a few minutes early. You will receive instruction before the meditation period begins. \nIn-person practice takes place on alternate Saturdays\, when we host a half day of meditation on the Livingston Campus of Rutgers-New Brunswick.  Please see “Weekend Zazen” on this site for more information. \nSaturday Schedule \n7:00 am. Sutra Recitation \n7:45. Tea service and bathroom break \n8:00 Three periods of zazen (meditation) \n9:30 Bathroom break \n9:40 Two periods of zazen \n10:40 Bathroom break \n10:45 Kinhin (walking meditation) \n11:00 Teisho \nNoon End of events \n 
URL:https://www.coldmountainzen.org/event/weekendzazen-3-2-2/2026-05-09/
LOCATION:Lucy Stone Hall\, 54 Joyce Kilmer Avenue\, Piscataway\, NJ\, 08854\, United States
CATEGORIES:Weekend Zazen-Saturday,Zazen
ATTACH;FMTTYPE=image/jpeg:https://www.coldmountainzen.org/wp-content/uploads/2024/03/16-9-lilies.jpg
END:VEVENT
BEGIN:VEVENT
DTSTART;TZID=America/New_York:20260510T070000
DTEND;TZID=America/New_York:20260510T083000
DTSTAMP:20260423T181212
CREATED:20240305T004532Z
LAST-MODIFIED:20250524T164219Z
UID:10006535-1778396400-1778401800@www.coldmountainzen.org
SUMMARY:Sunday Zazen
DESCRIPTION:Zazen\nSunday Morning 7 AM – 8:30AM\n  \nCurrently we are continuing to meet on Zoom for all sits. \nFor Zoom meeting information\, please email us at coldmountainsangha@gmail.com \nAnyone interested in learning Zen meditation is welcome to join. For beginners\, Mondays and Fridays are best. Please plan to join us on Zoom a few minutes early. You will receive instruction before the meditation period begins.
URL:https://www.coldmountainzen.org/event/weekend-zazen-sunday-2/2026-05-10/
LOCATION:NJ
CATEGORIES:Weekend Zazen-Sunday,Zazen
ATTACH;FMTTYPE=image/jpeg:https://www.coldmountainzen.org/wp-content/uploads/2024/03/16-9_in-the-grass.jpg
END:VEVENT
END:VCALENDAR